BEGIN:VCALENDAR
VERSION:2.0
PRODID:-//Pannon Kapu Kulturális Egyesület//NONSGML kigkonsult.se iCalcreator 2.41.92//
CALSCALE:GREGORIAN
METHOD:PUBLISH
UID:30363639-6161-4834-b637-303739666239
X-WR-CALNAME:iCagenda
X-WR-CALDESC:Event Management Extension for Joomla!
X-WR-RELCALID:3E26604A-50F4-4449-8B3E-E4F4932D05B5
X-WR-TIMEZONE:Europe/Budapest
BEGIN:VTIMEZONE
TZID:Europe/Budapest
TZUNTIL:20270328T010000Z
BEGIN:STANDARD
TZNAME:CET
DTSTART:20241027T030000
TZOFFSETFROM:+0200
TZOFFSETTO:+0100
RDATE:20251026T030000
RDATE:20261025T030000
END:STANDARD
BEGIN:DAYLIGHT
TZNAME:CEST
DTSTART:20250330T020000
TZOFFSETFROM:+0100
TZOFFSETTO:+0200
RDATE:20260329T020000
END:DAYLIGHT
END:VTIMEZONE
BEGIN:VEVENT
UID:33386366-6130-4636-a662-386638383631
DTSTAMP:20260420T122925Z
CATEGORIES:Hagyományörzés
CLASS:PUBLIC
DESCRIPTION;ALTREP="CID:<FFFF__=0ABBE548DFE235B58f9e8a93d@coffeebean.com>":
 További információ és a nevezési felület is elérhető az alábbi honlapon:\n
 csatafutas.hu\n&nbsp\;
DTSTART:20250802T160900Z
DTEND:20250802T160900Z
GEO:+46.954533;+16.274612
LOCATION:Templom előtti tér
ORGANIZER:
SEQUENCE:1
SUMMARY:21. Csatafutás
TRANSP:OPAQUE
URL:https://pannonkapu.hu/component/icagenda/21-csatafutas/2025-08-02-18-09
END:VEVENT
END:VCALENDAR
